BEGIN:VCALENDAR
VERSION:2.0
PRODID:-//Squarespace Inc/Squarespace 6//v6//EN
BEGIN:VEVENT
UID:602521446575940add2de7a3@squarespace.com
DTSTAMP:20210211T122434Z
DTSTART:20210220T083000Z
DTEND:20210220T103000Z
SUMMARY:Bible Study / Meal
GEO:-32.014234;115.93152
LOCATION:Mustard Seed Community Church
END:VEVENT
END:VCALENDAR
