BEGIN:VCALENDAR
VERSION:2.0
PRODID:-//Squarespace Inc/Squarespace 6//v6//EN
BEGIN:VEVENT
UID:6025276eb724883f0bf0786d@squarespace.com
DTSTAMP:20210211T124914Z
DTSTART:20210320T083000Z
DTEND:20210320T103000Z
SUMMARY:Bible Study / Meal
GEO:-32.014234;115.93152
LOCATION:Mustard Seed Community Church
END:VEVENT
END:VCALENDAR
