BEGIN:VCALENDAR
VERSION:2.0
PRODID:-//Squarespace Inc/Squarespace 6//v6//EN
BEGIN:VEVENT
UID:602524b0a67d6b67735ca9a9@squarespace.com
DTSTAMP:20210211T124212Z
DTSTART:20210313T083000Z
DTEND:20210313T103000Z
SUMMARY:Bible Study
GEO:-32.014234;115.93152
LOCATION:Mustard Seed Community Church
END:VEVENT
END:VCALENDAR
