BEGIN:VCALENDAR
VERSION:2.0
PRODID:-//Squarespace Inc/Squarespace 6//v6//EN
BEGIN:VEVENT
UID:602522de9a63bc2171a80fb8@squarespace.com
DTSTAMP:20210211T123157Z
DTSTART:20210306T083000Z
DTEND:20210306T103000Z
SUMMARY:Bible Study / Meal
GEO:-32.014234;115.93152
LOCATION:Mustard Seed Community Church
END:VEVENT
END:VCALENDAR
